BEGIN:VCALENDAR
VERSION:2.0
PRODID:-//The First Presbyterian Church - ECPv6.15.20//NONSGML v1.0//EN
CALSCALE:GREGORIAN
METHOD:PUBLISH
X-WR-CALNAME:The First Presbyterian Church
X-ORIGINAL-URL:https://fpchattiesburg.org
X-WR-CALDESC:Events for The First Presbyterian Church
REFRESH-INTERVAL;VALUE=DURATION:PT1H
X-Robots-Tag:noindex
X-PUBLISHED-TTL:PT1H
BEGIN:VTIMEZONE
TZID:America/Chicago
BEGIN:DAYLIGHT
TZOFFSETFROM:-0600
TZOFFSETTO:-0500
TZNAME:CDT
DTSTART:20210314T080000
END:DAYLIGHT
BEGIN:STANDARD
TZOFFSETFROM:-0500
TZOFFSETTO:-0600
TZNAME:CST
DTSTART:20211107T070000
END:STANDARD
BEGIN:DAYLIGHT
TZOFFSETFROM:-0600
TZOFFSETTO:-0500
TZNAME:CDT
DTSTART:20220313T080000
END:DAYLIGHT
BEGIN:STANDARD
TZOFFSETFROM:-0500
TZOFFSETTO:-0600
TZNAME:CST
DTSTART:20221106T070000
END:STANDARD
BEGIN:DAYLIGHT
TZOFFSETFROM:-0600
TZOFFSETTO:-0500
TZNAME:CDT
DTSTART:20230312T080000
END:DAYLIGHT
BEGIN:STANDARD
TZOFFSETFROM:-0500
TZOFFSETTO:-0600
TZNAME:CST
DTSTART:20231105T070000
END:STANDARD
END:VTIMEZONE
BEGIN:VEVENT
DTSTART;TZID=America/Chicago:20220817T173000
DTEND;TZID=America/Chicago:20220817T193000
DTSTAMP:20260424T130403
CREATED:20220728T195149Z
LAST-MODIFIED:20220728T195149Z
UID:1563-1660757400-1660764600@fpchattiesburg.org
SUMMARY:Wonderful Wednesday Nights Resume
DESCRIPTION:Join us for a delicious meal at 5:30 p.m. in McIntosh Hall\, with activities for children\, youth\, and adults beginning at 6:30 p.m.
URL:https://fpchattiesburg.org/event/wonderful-wednesday-nights-resume/
LOCATION:McIntosh Hall (Mac Hall)\, 4901 Hardy Street\, Hattiesburg\, MS\, 39402\, United States
ATTACH;FMTTYPE=image/jpeg:https://fpchattiesburg.org/wp-content/uploads/2022/07/Wednesday-Night-Beckys-Pies-scaled.jpg
END:VEVENT
BEGIN:VEVENT
DTSTART;TZID=America/Chicago:20220713T173000
DTEND;TZID=America/Chicago:20220713T193000
DTSTAMP:20260424T130403
CREATED:20220621T135607Z
LAST-MODIFIED:20220621T135607Z
UID:797-1657733400-1657740600@fpchattiesburg.org
SUMMARY:Waterslide Family Night
DESCRIPTION:
URL:https://fpchattiesburg.org/event/waterslide-family-night/
LOCATION:MS
END:VEVENT
BEGIN:VEVENT
DTSTART;VALUE=DATE:20220711
DTEND;VALUE=DATE:20220716
DTSTAMP:20260424T130403
CREATED:20220621T140840Z
LAST-MODIFIED:20220621T140840Z
UID:814-1657497600-1657929599@fpchattiesburg.org
SUMMARY:Sr. High RYM
DESCRIPTION:
URL:https://fpchattiesburg.org/event/sr-high-rym/
LOCATION:MS
ORGANIZER;CN="Zeek Dean":MAILTO:edean@fpcpca.net
END:VEVENT
BEGIN:VEVENT
DTSTART;TZID=America/Chicago:20220705T100000
DTEND;TZID=America/Chicago:20220705T110000
DTSTAMP:20260424T130403
CREATED:20220621T135941Z
LAST-MODIFIED:20220621T135941Z
UID:799-1657015200-1657018800@fpchattiesburg.org
SUMMARY:Joyful Senior Adult Dominoes
DESCRIPTION:
URL:https://fpchattiesburg.org/event/joyful-senior-adult-dominoes/
LOCATION:Taylor Hall\, 4901 Hardy Street\, Hattiesburg\, MS\, 39402\, United States
CATEGORIES:Joyful Senior Adults
ORGANIZER;CN="Knox Baird":MAILTO:knoxbaird@fpcpca.net
END:VEVENT
BEGIN:VEVENT
DTSTART;VALUE=DATE:20220704
DTEND;VALUE=DATE:20220705
DTSTAMP:20260424T130403
CREATED:20220621T140343Z
LAST-MODIFIED:20220621T140343Z
UID:808-1656892800-1656979199@fpchattiesburg.org
SUMMARY:Independence Day - Church Office Closed
DESCRIPTION:
URL:https://fpchattiesburg.org/event/independence-day-church-office-closed/
LOCATION:MS
END:VEVENT
BEGIN:VEVENT
DTSTART;VALUE=DATE:20220627
DTEND;VALUE=DATE:20220702
DTSTAMP:20260424T130403
CREATED:20220621T140725Z
LAST-MODIFIED:20220621T140725Z
UID:811-1656288000-1656719999@fpchattiesburg.org
SUMMARY:Jr. High RYM
DESCRIPTION:
URL:https://fpchattiesburg.org/event/jr-high-rym/
LOCATION:MS
CATEGORIES:Youth
ORGANIZER;CN="Zeek Dean":MAILTO:edean@fpcpca.net
END:VEVENT
BEGIN:VEVENT
DTSTART;VALUE=DATE:20220606
DTEND;VALUE=DATE:20220611
DTSTAMP:20260424T130403
CREATED:20220505T143923Z
LAST-MODIFIED:20220511T133114Z
UID:587-1654473600-1654905599@fpchattiesburg.org
SUMMARY:Vacation Bible School
DESCRIPTION:Vacation Bible School registration is now open!  \nJoin us for a week full of fun and learning as we explore the tails of “The Silver Chair.” Vacation Bible School will take place June 6–10\, 9am-12pm. Lunch will not be provided. \nClick here to register your child(ren) today. \nClick here for Youth Volunteer Registration (current 6th– 12th graders). 
URL:https://fpchattiesburg.org/event/vacation-bible-school/
LOCATION:MS
END:VEVENT
BEGIN:VEVENT
DTSTART;VALUE=DATE:20220516
DTEND;VALUE=DATE:20220517
DTSTAMP:20260424T130403
CREATED:20220505T144359Z
LAST-MODIFIED:20220511T134351Z
UID:589-1652659200-1652745599@fpchattiesburg.org
SUMMARY:Joyful Senior Adult Trip to the Mississippi Armed Forces Museum
DESCRIPTION:The Joyful Senior Adults will have their monthly program on Monday\, May 16\, 2022. \n\n\n\nThe Joyful Adults and any other members and visitors of the church are invited to a private showing of the Mississippi Armed Forces Museum at Camp Shelby by Tommy Lofton\, Director of the Museum and church member. \n\n\n\nKey information: \n\n\n\n\nTime to Arrive:  Arrival at the South Gate off of Highway 49 South at 9:45 AM.\n\n\n\nTransportation: There will be no mass transportation from the church. If you are willing to take others with you\, please let Knox Baird or Margaret Hawes know.\n\n\n\nLunch: A box lunch from Honey Baked Ham and drinks will be provided at a cost of $10. Inform Margaret Hawes which sandwich you would like: Chicken Salad\, Ham Classic\, Tavern Club or BBQ Smoke Stacker.\n\n\n\nSign up by Sunday\, May 15: Everyone who would like to attend must have their name given to Margaret Hawes or Knox Baird by May 15. This is to help with food and to notify Camp Shelby Guard Gate of check in.\n\n\nContact Knox Baird at knoxbaird@fpcpca.net or 601-606-4053.\nContact Margaret Hawes at hhawessr@bellsouth.net or 601-297-7140.
URL:https://fpchattiesburg.org/event/senior-adult-luncheon/
LOCATION:Mississippi Armed Forces Museum\, 1001 Lee AVE W\, Building 850\, Hattiesburg\, MS\, 39407-0001
ATTACH;FMTTYPE=image/jpeg:https://fpchattiesburg.org/wp-content/uploads/2022/05/MS-Armed-Forces-Museum.jpg
END:VEVENT
BEGIN:VEVENT
DTSTART;TZID=America/Chicago:20220505T080000
DTEND;TZID=America/Chicago:20220505T170000
DTSTAMP:20260424T130403
CREATED:20220505T204253Z
LAST-MODIFIED:20220505T204253Z
UID:605-1651737600-1651770000@fpchattiesburg.org
SUMMARY:Event Title
DESCRIPTION:Place your event description here\, including ticket info\, registration\, and other notes.
URL:https://fpchattiesburg.org/event/event-title/
LOCATION:MS
END:VEVENT
END:VCALENDAR